BEGIN:VCALENDAR
VERSION:2.0
PRODID:-//Gospel Equip - ECPv6.15.20//NONSGML v1.0//EN
CALSCALE:GREGORIAN
METHOD:PUBLISH
X-WR-CALNAME:Gospel Equip
X-ORIGINAL-URL:https://gospelequip.org
X-WR-CALDESC:Events for Gospel Equip
REFRESH-INTERVAL;VALUE=DURATION:PT1H
X-Robots-Tag:noindex
X-PUBLISHED-TTL:PT1H
BEGIN:VTIMEZONE
TZID:America/New_York
BEGIN:DAYLIGHT
TZOFFSETFROM:-0500
TZOFFSETTO:-0400
TZNAME:EDT
DTSTART:20240310T070000
END:DAYLIGHT
BEGIN:STANDARD
TZOFFSETFROM:-0400
TZOFFSETTO:-0500
TZNAME:EST
DTSTART:20241103T060000
END:STANDARD
BEGIN:DAYLIGHT
TZOFFSETFROM:-0500
TZOFFSETTO:-0400
TZNAME:EDT
DTSTART:20250309T070000
END:DAYLIGHT
BEGIN:STANDARD
TZOFFSETFROM:-0400
TZOFFSETTO:-0500
TZNAME:EST
DTSTART:20251102T060000
END:STANDARD
BEGIN:DAYLIGHT
TZOFFSETFROM:-0500
TZOFFSETTO:-0400
TZNAME:EDT
DTSTART:20260308T070000
END:DAYLIGHT
BEGIN:STANDARD
TZOFFSETFROM:-0400
TZOFFSETTO:-0500
TZNAME:EST
DTSTART:20261101T060000
END:STANDARD
END:VTIMEZONE
BEGIN:VEVENT
DTSTART;TZID=America/New_York:20250308T093000
DTEND;TZID=America/New_York:20250309T130000
DTSTAMP:20260424T085936
CREATED:20250423T040719Z
LAST-MODIFIED:20250423T050013Z
UID:1413-1741426200-1741525200@gospelequip.org
SUMMARY:Northern KY Witnessing Workshop at Torch
DESCRIPTION:Many in the church are fearful or apathetic toward evangelism. Christian\, come to Torch Community Church to encounter the power of the Gospel. Be inspired and equipped with field tested tools to boldly share your faith and fulfill the Great Commission! At the conclusion of our event\, we will be putting all we learned into practice by seeking to engage individuals waiting in line for the Winter Jam concert with the Gospel!
URL:https://gospelequip.org/event/northern-ky-witnessing-workshop-at-torch/
LOCATION:Torch Community Church\, 6767 Hopeful Rd.\, Florence\, KY\, 41042\, United States
ATTACH;FMTTYPE=image/jpeg:https://gospelequip.org/wp-content/uploads/2025/04/WWW.jpg
ORGANIZER;CN="Tony Ramsek":MAILTO:Tony@GospelEquip.org
END:VEVENT
BEGIN:VEVENT
DTSTART;TZID=America/New_York:20250201T140000
DTEND;TZID=America/New_York:20250201T160000
DTSTAMP:20260424T085936
CREATED:20250423T042240Z
LAST-MODIFIED:20250423T045906Z
UID:1417-1738418400-1738425600@gospelequip.org
SUMMARY:Louisville\, KY Winter Jam
DESCRIPTION:Winter Jam\, the biggest annual Christian music tour\, provides a wonderful opportunity to share the good news of Christ! Since most tickets are purchased at the door\, a long line forms\, which creates the perfect chance to engage in conversation. While you might think that everyone there is already a Christian\, you’ll sometimes encounter people who are only churchgoers\, or maybe a non-Christian friend that is simply tagging along. And if you do meet a fellow believer\, what better thing to do than to remind them of the One that they’ve centered their life upon? Come join us!
URL:https://gospelequip.org/event/louisville-ky-winter-jam/
LOCATION:KFC Yum! Center\, 1 Arena Plaza\, Louisville\, 40202\, United States
ATTACH;FMTTYPE=image/jpeg:https://gospelequip.org/wp-content/uploads/2025/04/winter-jam-2025.jpg
ORGANIZER;CN="Tony Ramsek":MAILTO:Tony@GospelEquip.org
END:VEVENT
BEGIN:VEVENT
DTSTART;TZID=America/New_York:20250125T100000
DTEND;TZID=America/New_York:20250125T170000
DTSTAMP:20260424T085936
CREATED:20250423T033626Z
LAST-MODIFIED:20250423T033626Z
UID:1406-1737799200-1737824400@gospelequip.org
SUMMARY:Columbus\, OH Witnessing Workshop & Winter Jam Outreach
DESCRIPTION:Come get equipped with practical tools for reaching the lost at The Church Next Door in Columbus\, OH. Then join us as we go proclaim the gospel to the lines of people at the Winter Jam concert at the Schottenstein Center on the Ohio State University campus.
URL:https://gospelequip.org/event/columbus-oh-witnessing-workshop-winter-jam-outreach/
LOCATION:The Schottenstein Center\, 555 Borror Dr.\, Columbus\, OH\, 43210\, United States
ATTACH;FMTTYPE=image/jpeg:https://gospelequip.org/wp-content/uploads/2025/04/winter-jam-1.jpg
END:VEVENT
BEGIN:VEVENT
DTSTART;TZID=America/New_York:20250124T150000
DTEND;TZID=America/New_York:20250124T170000
DTSTAMP:20260424T085936
CREATED:20250423T031742Z
LAST-MODIFIED:20250423T034154Z
UID:1398-1737730800-1737738000@gospelequip.org
SUMMARY:Lexington\, KY Winter Jam
DESCRIPTION:Winter Jam\, the biggest annual Christian music tour\, provides a wonderful opportunity to share the good news of Christ! Since most tickets are purchased at the door\, a long line forms\, which creates the perfect chance to engage in conversation. While you might think that everyone there is already a Christian\, you’ll sometimes encounter people who are only churchgoers\, or maybe a non-Christian friend that is simply tagging along. And if you do meet a fellow believer\, what better thing to do than to remind them of the One that they’ve centered their life upon? Come join us!
URL:https://gospelequip.org/event/lexington-ky-winter-jam-2/
LOCATION:Rupp Arena\, 430 W Vine St\, Lexington\, KY\, 40507\, United States
ATTACH;FMTTYPE=image/jpeg:https://gospelequip.org/wp-content/uploads/2025/04/Winter-Jam-25.jpg
ORGANIZER;CN="Tony Ramsek":MAILTO:Tony@GospelEquip.org
END:VEVENT
END:VCALENDAR