BEGIN:VCALENDAR
VERSION:2.0
PRODID:-//Gospel Equip - ECPv6.15.20//NONSGML v1.0//EN
CALSCALE:GREGORIAN
METHOD:PUBLISH
X-ORIGINAL-URL:https://gospelequip.org
X-WR-CALDESC:Events for Gospel Equip
REFRESH-INTERVAL;VALUE=DURATION:PT1H
X-Robots-Tag:noindex
X-PUBLISHED-TTL:PT1H
BEGIN:VTIMEZONE
TZID:America/New_York
BEGIN:DAYLIGHT
TZOFFSETFROM:-0500
TZOFFSETTO:-0400
TZNAME:EDT
DTSTART:20250309T070000
END:DAYLIGHT
BEGIN:STANDARD
TZOFFSETFROM:-0400
TZOFFSETTO:-0500
TZNAME:EST
DTSTART:20251102T060000
END:STANDARD
BEGIN:DAYLIGHT
TZOFFSETFROM:-0500
TZOFFSETTO:-0400
TZNAME:EDT
DTSTART:20260308T070000
END:DAYLIGHT
BEGIN:STANDARD
TZOFFSETFROM:-0400
TZOFFSETTO:-0500
TZNAME:EST
DTSTART:20261101T060000
END:STANDARD
BEGIN:DAYLIGHT
TZOFFSETFROM:-0500
TZOFFSETTO:-0400
TZNAME:EDT
DTSTART:20270314T070000
END:DAYLIGHT
BEGIN:STANDARD
TZOFFSETFROM:-0400
TZOFFSETTO:-0500
TZNAME:EST
DTSTART:20271107T060000
END:STANDARD
END:VTIMEZONE
BEGIN:VEVENT
DTSTART;TZID=America/New_York:20260309T120000
DTEND;TZID=America/New_York:20260310T133000
DTSTAMP:20260422T043408
CREATED:20260120T211338Z
LAST-MODIFIED:20260120T211338Z
UID:1715-1773057600-1773149400@gospelequip.org
SUMMARY:Going to REACH Because Christ Is Worth Proclaiming
DESCRIPTION:On March 9 and 10\, I’ll be attending the REACH Evangelism & Missions Conference\, and I’d love for you to come with me. \nREACH exists to refocus our hearts on what matters most:Jesus Christ.His gospel.His mission. \nJesus said\, “Go therefore and make disciples of all nations.” (Matthew 28:19) That call is clear. Yet it’s easy for us to grow comfortable or unsure of how to share our faith in a world that often resists truth. REACH is designed to help believers be grounded in Christ and equipped to live on mission with confidence and compassion. \nPaul wrote\, “For I am not ashamed of the gospel\, for it is the power of God for salvation.” This gathering is about lifting high the name of Jesus and being reminded that the gospel still saves. \nIf your heart longs to see the lost reached…If you desire greater boldness in sharing Christ\,\,\,If you need encouragement to keep going\,\,\, \nthen come with me to this special 2-day conference in Lousiville. Let’s gather around God’s Word\, worship together\, and be sent out ready to proclaim Christ wherever He has placed us. “The harvest is plentiful\, but the laborers are few.” (Luke 10:2) May we be among those who go into the world and preach the gospel!
URL:https://gospelequip.org/event/going-to-reach-because-christ-is-worth-proclaiming/
LOCATION:Westport Road Baptist Church\, 9705 Westport Road\, Louisville\, KY\, 40241\, United States
ATTACH;FMTTYPE=image/png:https://gospelequip.org/wp-content/uploads/2026/01/Reach-KBC-2026.png
ORGANIZER;CN="Tony Ramsek":MAILTO:Tony@GospelEquip.org
END:VEVENT
END:VCALENDAR